BEGIN:VCALENDAR
VERSION:2.0
PRODID:-//Key West Attractions Association - ECPv6.15.20//NONSGML v1.0//EN
CALSCALE:GREGORIAN
METHOD:PUBLISH
X-WR-CALNAME:Key West Attractions Association
X-ORIGINAL-URL:https://keywestattractions.org
X-WR-CALDESC:Events for Key West Attractions Association
REFRESH-INTERVAL;VALUE=DURATION:PT1H
X-Robots-Tag:noindex
X-PUBLISHED-TTL:PT1H
BEGIN:VTIMEZONE
TZID:America/New_York
BEGIN:DAYLIGHT
TZOFFSETFROM:-0500
TZOFFSETTO:-0400
TZNAME:EDT
DTSTART:20290311T070000
END:DAYLIGHT
BEGIN:STANDARD
TZOFFSETFROM:-0400
TZOFFSETTO:-0500
TZNAME:EST
DTSTART:20291104T060000
END:STANDARD
BEGIN:DAYLIGHT
TZOFFSETFROM:-0500
TZOFFSETTO:-0400
TZNAME:EDT
DTSTART:20300310T070000
END:DAYLIGHT
BEGIN:STANDARD
TZOFFSETFROM:-0400
TZOFFSETTO:-0500
TZNAME:EST
DTSTART:20301103T060000
END:STANDARD
BEGIN:DAYLIGHT
TZOFFSETFROM:-0500
TZOFFSETTO:-0400
TZNAME:EDT
DTSTART:20310309T070000
END:DAYLIGHT
BEGIN:STANDARD
TZOFFSETFROM:-0400
TZOFFSETTO:-0500
TZNAME:EST
DTSTART:20311102T060000
END:STANDARD
END:VTIMEZONE
BEGIN:VEVENT
DTSTART;TZID=America/New_York:20300610T180000
DTEND;TZID=America/New_York:20300610T203000
DTSTAMP:20260422T184443
CREATED:20250812T182249Z
LAST-MODIFIED:20260312T205829Z
UID:10004333-1907344800-1907353800@keywestattractions.org
SUMMARY:Trivia Night Mondays at Key West Cooking Show
DESCRIPTION:Test Your Knowledge & Tastebuds every Monday from 6:00 to 8:30 PM for a sizzling evening of fun\, food\, and friendly competition at Trivia Night at the Key West Cooking School!\nGather your team or come solo and make new friends as we challenge your brain with a mix of pop culture\, history\, food facts\, and island oddities. Fabulous prizes await the top scorers—and maybe even a few surprises for the most creative answers!\nWhile you play\, enjoy exclusive bar specials and a mouthwatering Trivia Night menu crafted just for the occasion. It’s the perfect mix of delicious bites\, cold drinks\, and great vibes.\n🍽️ Special Menu\n🍹 Drink Specials\n🎁 Great Prizes\n🎉 Unbeatable Fun\nSpots fill up fast\, so bring your A-game and make Monday your new favorite night of the week. Call ahead and reserve your seat at 305-395-4034. See you there!
URL:https://keywestattractions.org/event/trivia-night-mondays-at-key-west-cooking-school/2030-06-10/
LOCATION:Key West Cooking Show\, 291 Front Street\, Key West\, FL\, 33040\, United States
CATEGORIES:Member Events
ATTACH;FMTTYPE=image/jpeg:https://keywestattractions.org/wp-content/uploads/2025/08/trivia.jpg
ORGANIZER;CN="Key West Cooking School":MAILTO:kelly.marshall@keywestcookingschool.com
END:VEVENT
END:VCALENDAR