BEGIN:VCALENDAR
VERSION:2.0
PRODID:-//Key West Attractions Association - ECPv6.15.20//NONSGML v1.0//EN
CALSCALE:GREGORIAN
METHOD:PUBLISH
X-WR-CALNAME:Key West Attractions Association
X-ORIGINAL-URL:https://keywestattractions.org
X-WR-CALDESC:Events for Key West Attractions Association
REFRESH-INTERVAL;VALUE=DURATION:PT1H
X-Robots-Tag:noindex
X-PUBLISHED-TTL:PT1H
BEGIN:VTIMEZONE
TZID:America/New_York
BEGIN:DAYLIGHT
TZOFFSETFROM:-0500
TZOFFSETTO:-0400
TZNAME:EDT
DTSTART:20240310T070000
END:DAYLIGHT
BEGIN:STANDARD
TZOFFSETFROM:-0400
TZOFFSETTO:-0500
TZNAME:EST
DTSTART:20241103T060000
END:STANDARD
BEGIN:DAYLIGHT
TZOFFSETFROM:-0500
TZOFFSETTO:-0400
TZNAME:EDT
DTSTART:20250309T070000
END:DAYLIGHT
BEGIN:STANDARD
TZOFFSETFROM:-0400
TZOFFSETTO:-0500
TZNAME:EST
DTSTART:20251102T060000
END:STANDARD
BEGIN:DAYLIGHT
TZOFFSETFROM:-0500
TZOFFSETTO:-0400
TZNAME:EDT
DTSTART:20260308T070000
END:DAYLIGHT
BEGIN:STANDARD
TZOFFSETFROM:-0400
TZOFFSETTO:-0500
TZNAME:EST
DTSTART:20261101T060000
END:STANDARD
END:VTIMEZONE
BEGIN:VTIMEZONE
TZID:UTC
BEGIN:STANDARD
TZOFFSETFROM:+0000
TZOFFSETTO:+0000
TZNAME:UTC
DTSTART:20210101T000000
END:STANDARD
END:VTIMEZONE
BEGIN:VEVENT
DTSTART;TZID=America/New_York:20250119T110000
DTEND;TZID=America/New_York:20250120T170000
DTSTAMP:20260419T141030
CREATED:20250107T223611Z
LAST-MODIFIED:20250107T223611Z
UID:10003484-1737284400-1737392400@keywestattractions.org
SUMMARY:19th Annual Florida Keys Seafood Festival
DESCRIPTION:The 19th Annual Florida Keys Seafood Festival features a diverse selection of dishes\, including fried fish baskets or platters served with slaw and black beans & rice\, fried clam baskets\, grilled spiny lobster platters\, and stone crab claws accompanied by key lime mustard sauce. Guests can also enjoy peel-and-eat Key West pink shrimp with cocktail sauce\, smoked fish dip with crackers\, creamy lobster bisque\, and Bahamian-style conch chowder. In addition\, there are conch ceviche\, conch fritters\, hot dogs\, hamburgers\, and a variety of beverages such as beer\, wine\, rumaritas\, rum runners\, water\, soda\, and coffee. For dessert\, try Estella’s Famous Flan and Natilla\, key lime pie\, and other homemade treats. \nWhen: Saturday\, January 18th from 11:00 a.m. to 7:00 p.m. AND Sunday\, January 19th from 11:00 a.m. to 5:00 p.m.\nWhere: Bayview Park\, Key West\nAdmission: $10 for adults\, good for both days; children under 12 are free\nProceeds: Benefit sustainable fisheries management programs and youth scholarships\nHighlights: \nLive music and entertainment\nA variety of seafood dishes from local restaurants\nCooking demonstrations and competitions\nArts and crafts vendors\nA raffle for $250 worth of seafood
URL:https://keywestattractions.org/event/19th-annual-florida-keys-seafood-festival/
LOCATION:Bayview Park\, 1320 Truman Ave\, Key West\, FL\, 33040\, United States
ATTACH;FMTTYPE=image/jpeg:https://keywestattractions.org/wp-content/uploads/2025/01/2p2.jpg
END:VEVENT
BEGIN:VEVENT
DTSTART;TZID=UTC:20221218T170000
DTEND;TZID=UTC:20221218T180000
DTSTAMP:20260419T141030
CREATED:20221201T021925Z
LAST-MODIFIED:20221201T021925Z
UID:10000031-1671382800-1671386400@keywestattractions.org
SUMMARY:The City of Key West Menorah Lighting Ceremony at Bayview Park
DESCRIPTION:The City of Key West Menorah Lighting Ceremony at Bayview Park.
URL:https://keywestattractions.org/event/the-city-of-key-west-menorah-lighting-ceremony-at-bayview-park/
LOCATION:Bayview Park\, 1320 Truman Ave\, Key West\, FL\, 33040\, United States
ATTACH;FMTTYPE=image/jpeg:https://keywestattractions.org/wp-content/uploads/2022/11/key-west-menorrah.jpg
END:VEVENT
BEGIN:VEVENT
DTSTART;TZID=UTC:20221203T190000
DTEND;TZID=UTC:20221203T210000
DTSTAMP:20260419T141030
CREATED:20221201T012033Z
LAST-MODIFIED:20221201T012033Z
UID:10000007-1670094000-1670101200@keywestattractions.org
SUMMARY:Key West Hometown Holiday Parade
DESCRIPTION:Key West Hometown Holiday Parade. Crowds line the streets for this parade which kicks off at Bayview Park and travels along Truman Ave and Duval Streets with vehicles\, floats\, and walking groups. Expect dogs and miniature horses.
URL:https://keywestattractions.org/event/key-west-hometown-holiday-parade/
LOCATION:Bayview Park\, 1320 Truman Ave\, Key West\, FL\, 33040\, United States
CATEGORIES:Member Events
ATTACH;FMTTYPE=image/jpeg:https://keywestattractions.org/wp-content/uploads/2022/11/hometown-holiday-parade.jpg
END:VEVENT
END:VCALENDAR