BEGIN:VCALENDAR
VERSION:2.0
PRODID:-//Key West Attractions Association - ECPv6.15.20//NONSGML v1.0//EN
CALSCALE:GREGORIAN
METHOD:PUBLISH
X-ORIGINAL-URL:https://keywestattractions.org
X-WR-CALDESC:Events for Key West Attractions Association
REFRESH-INTERVAL;VALUE=DURATION:PT1H
X-Robots-Tag:noindex
X-PUBLISHED-TTL:PT1H
BEGIN:VTIMEZONE
TZID:America/New_York
BEGIN:DAYLIGHT
TZOFFSETFROM:-0500
TZOFFSETTO:-0400
TZNAME:EDT
DTSTART:20250309T070000
END:DAYLIGHT
BEGIN:STANDARD
TZOFFSETFROM:-0400
TZOFFSETTO:-0500
TZNAME:EST
DTSTART:20251102T060000
END:STANDARD
BEGIN:DAYLIGHT
TZOFFSETFROM:-0500
TZOFFSETTO:-0400
TZNAME:EDT
DTSTART:20260308T070000
END:DAYLIGHT
BEGIN:STANDARD
TZOFFSETFROM:-0400
TZOFFSETTO:-0500
TZNAME:EST
DTSTART:20261101T060000
END:STANDARD
BEGIN:DAYLIGHT
TZOFFSETFROM:-0500
TZOFFSETTO:-0400
TZNAME:EDT
DTSTART:20270314T070000
END:DAYLIGHT
BEGIN:STANDARD
TZOFFSETFROM:-0400
TZOFFSETTO:-0500
TZNAME:EST
DTSTART:20271107T060000
END:STANDARD
END:VTIMEZONE
BEGIN:VTIMEZONE
TZID:UTC
BEGIN:STANDARD
TZOFFSETFROM:+0000
TZOFFSETTO:+0000
TZNAME:UTC
DTSTART:20210101T000000
END:STANDARD
END:VTIMEZONE
BEGIN:VEVENT
DTSTART;TZID=America/New_York:20260318T173000
DTEND;TZID=America/New_York:20260318T203000
DTSTAMP:20260420T014954
CREATED:20260312T220514Z
LAST-MODIFIED:20260312T220514Z
UID:10004922-1773855000-1773865800@keywestattractions.org
SUMMARY:Conch Revival Picnic
DESCRIPTION:The Key West Art & Historical Society\, Great Events Catering\, and Unity Table at Williams Hall are proud to present the 10th annual Conch Revival Picnic—a beloved heritage dinner honoring the island’s rich culinary traditions. Join us on Wednesday\, March 18\, 2026\, from 5:30 to 8:30 p.m. in Clinton Place\, set beside the beautiful Key West Museum of Art & History. \nThis year’s picnic-style feast will be crafted by renowned chefs Martha Hubbard and Dave Fuhrman\, offering a flavorful tribute to Key West’s Bahamian and Cuban roots through historic recipes\, lively music\, and a warm community spirit. The event also celebrates the launch of the Smithsonian’s FOOD exhibition\, opening at the museum in February 2026. \nOriginally inspired by the late Dianne Zolotow\, a dedicated board member of The Society\, the Conch Revival Picnic was created to preserve and showcase the traditional dishes passed down through generations of Conch families. Many featured recipes are drawn from the postwar Key West Woman’s Club Cookbook and other rare publications in the Society’s archives—recipes that are fast fading from local memory and dinner tables. \nCome hungry\, come curious\, and help keep the flavors of Key West alive. \nDate: March 18\nTime: 5:30pm – 8:30pm\nCost: $100.00\nLocation: Key West Museum of Art & History
URL:https://keywestattractions.org/event/conch-revival-picnic/
LOCATION:Custom House Museum\, 281 Front Street\, Key West\, FL\, 33040\, United States
ATTACH;FMTTYPE=image/jpeg:https://keywestattractions.org/wp-content/uploads/2026/03/CRPCustomHouseFacebook.jpg
END:VEVENT
BEGIN:VEVENT
DTSTART;TZID=UTC:20221209T170000
DTEND;TZID=UTC:20221209T210000
DTSTAMP:20260420T014954
CREATED:20221201T015707Z
LAST-MODIFIED:20221201T015707Z
UID:10000025-1670605200-1670619600@keywestattractions.org
SUMMARY:The 5th Annual Holiday Concert and Bazaar
DESCRIPTION:The 5th Annual Holiday Concert and Bazaar at the Custom House Museum. This free party has Key West artists\, musicians\, and choirs\, along with a spectacular holiday light show.
URL:https://keywestattractions.org/event/the-5th-annual-holiday-concert-and-bazaar/
LOCATION:Custom House Museum\, 281 Front Street\, Key West\, FL\, 33040\, United States
ATTACH;FMTTYPE=image/webp:https://keywestattractions.org/wp-content/uploads/2022/11/Custom-House-MuseumPNG.webp
END:VEVENT
END:VCALENDAR